BEGIN:VCALENDAR
VERSION:2.0
CALSCALE:GREGORIAN
PRODID:-//Diputació de Barcelona//DibaCMS//EN
BEGIN:VEVENT
UID:4305
DTSTAMP:20260422T135039
DTSTART:20190511T210000
DTEND:20190511T230000
SUMMARY:A Barcelona al Teatre per veure "Les noies de Mossbank Road"
LOCATION:
METHOD:PUBLISH
X-WR-CALNAME:capellades@capellades.cat
X-WR-TIMEZONE:Europe/Madrid
DESCRIPTION:Al Teatre La Villaroel pots veure "Les noies del Mossbank Road".

URI:https://www.capellades.cat/actualitat/agenda/a-barcelona-al-teatre-per-veure-les-noies-de-mossbank-road.html
CLASS:PUBLIC
END:VEVENT
END:VCALENDAR
