BEGIN:VCALENDAR
VERSION:2.0
CALSCALE:GREGORIAN
PRODID:-//Diputació de Barcelona//DibaCMS//EN
BEGIN:VEVENT
UID:4304
DTSTAMP:20260422T193224
DTSTART:20190511T123000
DTEND:20190511T170000
SUMMARY:Dinar popular de Vila de Capellades - CUP
LOCATION:
METHOD:PUBLISH
X-WR-CALNAME:capellades@capellades.cat
X-WR-TIMEZONE:Europe/Madrid
DESCRIPTION:Primer acte de campanya de Vila de Capellades - CUP.

URI:https://www.capellades.cat/actualitat/agenda/dinar-popular-de-vila-de-capellades-cup.html
CLASS:PUBLIC
END:VEVENT
END:VCALENDAR
