BEGIN:VCALENDAR
VERSION:2.0
CALSCALE:GREGORIAN
PRODID:-//Diputació de Barcelona//DibaCMS//EN
BEGIN:VEVENT
UID:4303
DTSTAMP:20260422T163217
DTSTART:20190511T090000
DTEND:20190512T170000
SUMMARY:Nova sortida dels Caminant per la comarca
LOCATION:
METHOD:PUBLISH
X-WR-CALNAME:capellades@capellades.cat
X-WR-TIMEZONE:Europe/Madrid
DESCRIPTION:Darrera sortida d'aquesta temporada del grup Caminant per la comarca, d'AEMdeKP.

URI:https://www.capellades.cat/actualitat/agenda/4303-nova-sortida-dels-caminant-per-la-comarca.html
CLASS:PUBLIC
END:VEVENT
END:VCALENDAR
