BEGIN:VCALENDAR
VERSION:2.0
CALSCALE:GREGORIAN
PRODID:-//Diputació de Barcelona//DibaCMS//EN
BEGIN:VEVENT
UID:4300
DTSTAMP:20260422T144850
DTSTART:20190514T180000
DTEND:20190514T190000
SUMMARY:Conferència "Educar sense cridar"
LOCATION:
METHOD:PUBLISH
X-WR-CALNAME:capellades@capellades.cat
X-WR-TIMEZONE:Europe/Madrid
DESCRIPTION:L'Associació de Famílies d'Infants de l'Escola Bressol Vailets organitza una nova xerrada.

URI:https://www.capellades.cat/actualitat/agenda/conferencia-educar-sense-cridar.html
CLASS:PUBLIC
END:VEVENT
END:VCALENDAR
