BEGIN:VCALENDAR
VERSION:2.0
CALSCALE:GREGORIAN
PRODID:-//Diputació de Barcelona//DibaCMS//EN
BEGIN:VEVENT
UID:4293
DTSTAMP:20260422T162546
DTSTART:20190510T193000
DTEND:20190510T203000
SUMMARY:Trobada poètica
LOCATION:
METHOD:PUBLISH
X-WR-CALNAME:capellades@capellades.cat
X-WR-TIMEZONE:Europe/Madrid
DESCRIPTION:Aquest mes de maig la trobada poètica de La Lliga estarà dedicada a Josep Carner.

URI:https://www.capellades.cat/actualitat/agenda/4293-trobada-poetica.html
CLASS:PUBLIC
END:VEVENT
END:VCALENDAR
