BEGIN:VCALENDAR
VERSION:2.0
CALSCALE:GREGORIAN
PRODID:-//Diputació de Barcelona//DibaCMS//EN
BEGIN:VEVENT
UID:4292
DTSTAMP:20260422T130745
DTSTART:20190510T193000
DTEND:20190510T210000
SUMMARY:Acte públic d'ERC
LOCATION:
METHOD:PUBLISH
X-WR-CALNAME:capellades@capellades.cat
X-WR-TIMEZONE:Europe/Madrid
DESCRIPTION:Els Jardins de Casa Bas acolliran un acte públic d'Esquerra Republicana a Capellades.

URI:https://www.capellades.cat/actualitat/agenda/acte-public-derc.html
CLASS:PUBLIC
END:VEVENT
END:VCALENDAR
