BEGIN:VCALENDAR
VERSION:2.0
CALSCALE:GREGORIAN
PRODID:-//Diputació de Barcelona//DibaCMS//EN
BEGIN:VEVENT
UID:4291
DTSTAMP:20260420T080520
DTSTART:20190508T150000
DTEND:20190508T163000
SUMMARY:Xerrada sobre alimentació
LOCATION:
METHOD:PUBLISH
X-WR-CALNAME:capellades@capellades.cat
X-WR-TIMEZONE:Europe/Madrid
DESCRIPTION:L'escola Marquès de la Pobla organitza una xerrada oberta per a les famílies: Apa, quin àpat!"

URI:https://www.capellades.cat/actualitat/agenda/xerrada-sobre-alimentacio.html
CLASS:PUBLIC
END:VEVENT
END:VCALENDAR
