BEGIN:VCALENDAR
VERSION:2.0
CALSCALE:GREGORIAN
PRODID:-//Diputació de Barcelona//DibaCMS//EN
BEGIN:VEVENT
UID:4290
DTSTAMP:20260422T161449
DTSTART:20190506T200000
DTEND:20190506T210000
SUMMARY:Concert de presentació del primer CD de Cosmos Quartet
LOCATION:
METHOD:PUBLISH
X-WR-CALNAME:capellades@capellades.cat
X-WR-TIMEZONE:Europe/Madrid
DESCRIPTION:El Quartet Cosmos fa un concert de presentació del seu primer CD, titulat “Influences” publicat per la discogràfica Seed Music.

URI:https://www.capellades.cat/actualitat/agenda/concert-de-presentacio-del-primer-cd-de-cosmos-quartet.html
CLASS:PUBLIC
END:VEVENT
END:VCALENDAR
