BEGIN:VCALENDAR
VERSION:2.0
CALSCALE:GREGORIAN
PRODID:-//Diputació de Barcelona//DibaCMS//EN
BEGIN:VEVENT
UID:4289
DTSTAMP:20260422T131208
DTSTART:20190509T193000
DTEND:20190509T203000
SUMMARY:Xerrada amb Amadeu Carbó
LOCATION:
METHOD:PUBLISH
X-WR-CALNAME:capellades@capellades.cat
X-WR-TIMEZONE:Europe/Madrid
DESCRIPTION:Nova xerrada organitzada des de la Societat La Lliga, en aquest cas per parlar sobre la mort, "Estirar la pota a la catalana", a dos quarts de vuit del vespre al Saló Rosa.

URI:https://www.capellades.cat/actualitat/agenda/xerrada-amb-amadeu-carbo.html
CLASS:PUBLIC
END:VEVENT
END:VCALENDAR
