BEGIN:VCALENDAR
VERSION:2.0
CALSCALE:GREGORIAN
PRODID:-//Diputació de Barcelona//DibaCMS//EN
BEGIN:VEVENT
UID:4288
DTSTAMP:20260422T131632
DTSTART:20190508T110000
DTEND:20190508T120000
SUMMARY:Anem al Teatre
LOCATION:
METHOD:PUBLISH
X-WR-CALNAME:capellades@capellades.cat
X-WR-TIMEZONE:Europe/Madrid
DESCRIPTION:Continua el cicle Anem al Teatre amb els alumnes d'educació infantil.

URI:https://www.capellades.cat/actualitat/agenda/4288-anem-al-teatre.html
CLASS:PUBLIC
END:VEVENT
END:VCALENDAR
