BEGIN:VCALENDAR
VERSION:2.0
CALSCALE:GREGORIAN
PRODID:-//Diputació de Barcelona//DibaCMS//EN
BEGIN:VEVENT
UID:4287
DTSTAMP:20260422T115325
DTSTART:20190507T180000
DTEND:20190507T190000
SUMMARY:Acaba d'arribar el lot
LOCATION:
METHOD:PUBLISH
X-WR-CALNAME:capellades@capellades.cat
X-WR-TIMEZONE:Europe/Madrid
DESCRIPTION:Aquest primer dimarts del mes de maig es presenten a la Biblioteca El Safareig les novetats.

URI:https://www.capellades.cat/actualitat/agenda/acaba-darribar-el-lot.html
CLASS:PUBLIC
END:VEVENT
END:VCALENDAR
