BEGIN:VCALENDAR
VERSION:2.0
CALSCALE:GREGORIAN
PRODID:-//Diputació de Barcelona//DibaCMS//EN
BEGIN:VEVENT
UID:4286
DTSTAMP:20260420T065736
DTSTART:20190521T110000
DTEND:20190521T120000
SUMMARY:Visita temàtica a la Biblioteca El Safareig
LOCATION:
METHOD:PUBLISH
X-WR-CALNAME:capellades@capellades.cat
X-WR-TIMEZONE:Europe/Madrid
DESCRIPTION:Nova visita temàtica d'alumnes de l'escola Mare del Diví Pastor a la Biblioteca El Safareig.

URI:https://www.capellades.cat/actualitat/agenda/visita-tematica-a-la-biblioteca-el-safareig.html
CLASS:PUBLIC
END:VEVENT
END:VCALENDAR
