BEGIN:VCALENDAR
VERSION:2.0
CALSCALE:GREGORIAN
PRODID:-//Diputació de Barcelona//DibaCMS//EN
BEGIN:VEVENT
UID:4285
DTSTAMP:20260422T115435
DTSTART:20190505T120000
DTEND:20190505T130000
SUMMARY:Teatre familiar a La Lliga
LOCATION:
METHOD:PUBLISH
X-WR-CALNAME:capellades@capellades.cat
X-WR-TIMEZONE:Europe/Madrid
DESCRIPTION:"Els colors de la música" és el títol d'aquesta proposta de diumenge al migdia. 

 

URI:https://www.capellades.cat/actualitat/agenda/teatre-familiar-a-la-lliga.html
CLASS:PUBLIC
END:VEVENT
END:VCALENDAR
