BEGIN:VCALENDAR
VERSION:2.0
CALSCALE:GREGORIAN
PRODID:-//Diputació de Barcelona//DibaCMS//EN
BEGIN:VEVENT
UID:4284
DTSTAMP:20260420T080413
DTSTART:20190504T193000
DTEND:20190504T210000
SUMMARY:Presentació de la llista de Junts per Capellades
LOCATION:
METHOD:PUBLISH
X-WR-CALNAME:capellades@capellades.cat
X-WR-TIMEZONE:Europe/Madrid
DESCRIPTION:
URI:https://www.capellades.cat/actualitat/agenda/presentacio-de-la-llista-de-junts-per-capellades.html
CLASS:PUBLIC
END:VEVENT
END:VCALENDAR
