BEGIN:VCALENDAR
VERSION:2.0
CALSCALE:GREGORIAN
PRODID:-//Diputació de Barcelona//DibaCMS//EN
BEGIN:VEVENT
UID:4283
DTSTAMP:20260422T161143
DTSTART:20190504T100000
DTEND:20190504T130000
SUMMARY:Taller de màscares de dimonis
LOCATION:
METHOD:PUBLISH
X-WR-CALNAME:capellades@capellades.cat
X-WR-TIMEZONE:Europe/Madrid
DESCRIPTION:Dimonis de Capellades organitza un taller de màscares de dimonis.

URI:https://www.capellades.cat/actualitat/agenda/taller-de-mascares-de-dimonis.html
CLASS:PUBLIC
END:VEVENT
END:VCALENDAR
