BEGIN:VCALENDAR
VERSION:2.0
CALSCALE:GREGORIAN
PRODID:-//Diputació de Barcelona//DibaCMS//EN
BEGIN:VEVENT
UID:4282
DTSTAMP:20260422T115545
DTSTART:20190503T230000
DTEND:20190504T000100
SUMMARY:Primera Nit Musical a La Lliga
LOCATION:
METHOD:PUBLISH
X-WR-CALNAME:capellades@capellades.cat
X-WR-TIMEZONE:Europe/Madrid
DESCRIPTION:Aquest divendres comença una nova activitat des de La Lliga, per tots els divendres dels mesos de maig i juny: Les Nits Musicals.

URI:https://www.capellades.cat/actualitat/agenda/primera-nit-musical-a-la-lliga.html
CLASS:PUBLIC
END:VEVENT
END:VCALENDAR
