BEGIN:VCALENDAR
VERSION:2.0
CALSCALE:GREGORIAN
PRODID:-//Diputació de Barcelona//DibaCMS//EN
BEGIN:VEVENT
UID:4280
DTSTAMP:20260422T192048
DTSTART:20190503T200000
DTEND:20190503T220000
SUMMARY:Assemblea oberta de Vila de Capellades - CUP
LOCATION:
METHOD:PUBLISH
X-WR-CALNAME:capellades@capellades.cat
X-WR-TIMEZONE:Europe/Madrid
DESCRIPTION:Vila de Capellades - CUP convoca una Assemblea Oberta: “Què i com ho hem fet? Com s’ha treballat? Passem comptes d’aquesta legislatura".

URI:https://www.capellades.cat/actualitat/agenda/assemblea-oberta-de-vila-de-capellades-cup.html
CLASS:PUBLIC
END:VEVENT
END:VCALENDAR
