BEGIN:VCALENDAR
VERSION:2.0
CALSCALE:GREGORIAN
PRODID:-//Diputació de Barcelona//DibaCMS//EN
BEGIN:VEVENT
UID:4279
DTSTAMP:20260420T083319
DTSTART:20190502T170000
DTEND:20190502T180000
SUMMARY:Presentació parelles lingüístiques
LOCATION:
METHOD:PUBLISH
X-WR-CALNAME:capellades@capellades.cat
X-WR-TIMEZONE:Europe/Madrid
DESCRIPTION:Voluntariat per la llengua proposa una nova edició de les parelles lingüístiques.

URI:https://www.capellades.cat/actualitat/agenda/presentacio-parelles-linguistiques.html
CLASS:PUBLIC
END:VEVENT
END:VCALENDAR
