BEGIN:VCALENDAR
VERSION:2.0
CALSCALE:GREGORIAN
PRODID:-//Diputació de Barcelona//DibaCMS//EN
BEGIN:VEVENT
UID:4269
DTSTAMP:20260422T114625
DTSTART:20190504T103000
DTEND:20190504T143000
SUMMARY:Taula informativa sobre la Fibromiàlgia
LOCATION:
METHOD:PUBLISH
X-WR-CALNAME:capellades@capellades.cat
X-WR-TIMEZONE:Europe/Madrid
DESCRIPTION:La seu territorial de l'Anoia de l'ACAF, Associació Catalana d'Afectades i Afectats de Fibromiàlgia i d'altres Síndromes de Sensibilització Central commemora el 12 de maig.

URI:https://www.capellades.cat/actualitat/agenda/taula-informativa-sobre-la-fibromialgia.html
CLASS:PUBLIC
END:VEVENT
END:VCALENDAR
