BEGIN:VCALENDAR
VERSION:2.0
CALSCALE:GREGORIAN
PRODID:-//Diputació de Barcelona//DibaCMS//EN
BEGIN:VEVENT
UID:4268
DTSTAMP:20260420T083302
DTSTART:20190609T180000
DTEND:20190609T193000
SUMMARY:Darrer concert del Festival d'Orgue
LOCATION:
METHOD:PUBLISH
X-WR-CALNAME:capellades@capellades.cat
X-WR-TIMEZONE:Europe/Madrid
DESCRIPTION:El darrer dels 4 concerts del Festival d'Orgue de Capellades serà el diumenge 9 de juny a les 6 de la tarda a l'església de Santa Maria.

URI:https://www.capellades.cat/actualitat/agenda/darrer-concert-del-festival-dorgue.html
CLASS:PUBLIC
END:VEVENT
END:VCALENDAR
