BEGIN:VCALENDAR
VERSION:2.0
CALSCALE:GREGORIAN
PRODID:-//Diputació de Barcelona//DibaCMS//EN
BEGIN:VEVENT
UID:4267
DTSTAMP:20260420T065858
DTSTART:20190602T180000
DTEND:20190602T193000
SUMMARY:Tercer concert del Festival d'Orgue de Capellades
LOCATION:
METHOD:PUBLISH
X-WR-CALNAME:capellades@capellades.cat
X-WR-TIMEZONE:Europe/Madrid
DESCRIPTION:El tercer concert del Festival d'Orgue de Capellades serà el diumenge 2 de juny a les 6 de la tarda.

URI:https://www.capellades.cat/actualitat/agenda/tercer-concert-del-festival-dorgue-de-capellades.html
CLASS:PUBLIC
END:VEVENT
END:VCALENDAR
