BEGIN:VCALENDAR
VERSION:2.0
CALSCALE:GREGORIAN
PRODID:-//Diputació de Barcelona//DibaCMS//EN
BEGIN:VEVENT
UID:4266
DTSTAMP:20260422T114823
DTSTART:20190512T180000
DTEND:20190512T193000
SUMMARY:Segon concert del Festival d'Orgue
LOCATION:
METHOD:PUBLISH
X-WR-CALNAME:capellades@capellades.cat
X-WR-TIMEZONE:Europe/Madrid
DESCRIPTION:"Sons del temps i la distància" és el títol d'aquest segon recital.

URI:https://www.capellades.cat/actualitat/agenda/segon-concert-del-festival-dorgue.html
CLASS:PUBLIC
END:VEVENT
END:VCALENDAR
