BEGIN:VCALENDAR
VERSION:2.0
CALSCALE:GREGORIAN
PRODID:-//Diputació de Barcelona//DibaCMS//EN
BEGIN:VEVENT
UID:4265
DTSTAMP:20260420T083125
DTSTART:20190508T103000
DTEND:20190508T130000
SUMMARY:Oficina d'Atenció al Consumidor
LOCATION:
METHOD:PUBLISH
X-WR-CALNAME:capellades@capellades.cat
X-WR-TIMEZONE:Europe/Madrid
DESCRIPTION:Aquest mes la visita de l'Oficina Mòbil d'Atenció al Consumidor serà el dimecres 8 de maig.

URI:https://www.capellades.cat/actualitat/agenda/oficina-datencio-al-consumidor.html
CLASS:PUBLIC
END:VEVENT
END:VCALENDAR
