BEGIN:VCALENDAR
VERSION:2.0
CALSCALE:GREGORIAN
PRODID:-//Diputació de Barcelona//DibaCMS//EN
BEGIN:VEVENT
UID:4260
DTSTAMP:20260422T114408
DTSTART:20190429T180000
DTEND:20190429T190000
SUMMARY:Dia de la Dansa
LOCATION:
METHOD:PUBLISH
X-WR-CALNAME:capellades@capellades.cat
X-WR-TIMEZONE:Europe/Madrid
DESCRIPTION:Dance&Fun celebra el Dia de la Dansa aquest dilluns 29 de maig a les 6 de la tarda.

URI:https://www.capellades.cat/actualitat/agenda/dia-de-la-dansa.html
CLASS:PUBLIC
END:VEVENT
END:VCALENDAR
