BEGIN:VCALENDAR
VERSION:2.0
CALSCALE:GREGORIAN
PRODID:-//Diputació de Barcelona//DibaCMS//EN
BEGIN:VEVENT
UID:4254
DTSTAMP:20260420T081550
DTSTART:20190427T210000
DTEND:20190427T220000
SUMMARY:Concert de la Coral Noves Veus
LOCATION:
METHOD:PUBLISH
X-WR-CALNAME:capellades@capellades.cat
X-WR-TIMEZONE:Europe/Madrid
DESCRIPTION:La Coral Noves Veus de Capellades farà el seu Concert de Sant Jordi, el dissabte 27 d'abril a les 9 de la nit.

URI:https://www.capellades.cat/actualitat/agenda/concert-de-la-coral-noves-veus.html
CLASS:PUBLIC
END:VEVENT
END:VCALENDAR
