BEGIN:VCALENDAR
VERSION:2.0
CALSCALE:GREGORIAN
PRODID:-//Diputació de Barcelona//DibaCMS//EN
BEGIN:VEVENT
UID:4253
DTSTAMP:20260420T093933
DTSTART:20190430T210000
DTEND:20190430T220000
SUMMARY:Audiciona't a l'Escola de Música
LOCATION:
METHOD:PUBLISH
X-WR-CALNAME:capellades@capellades.cat
X-WR-TIMEZONE:Europe/Madrid
DESCRIPTION:Nou Audiciona't a l'Escola de Música de Capellades per al dimarts 30 d'abril a les 9 de la nit a la Sala d'actes de l'Escola de Música.

URI:https://www.capellades.cat/actualitat/agenda/audicionat-a-lescola-de-musica.html
CLASS:PUBLIC
END:VEVENT
END:VCALENDAR
