BEGIN:VCALENDAR
VERSION:2.0
CALSCALE:GREGORIAN
PRODID:-//Diputació de Barcelona//DibaCMS//EN
BEGIN:VEVENT
UID:4252
DTSTAMP:20260420T082448
DTSTART:20190430T180000
DTEND:20190430T190000
SUMMARY:Laboratori de Lectura: Contes tradicionals a través dels sentits
LOCATION:
METHOD:PUBLISH
X-WR-CALNAME:capellades@capellades.cat
X-WR-TIMEZONE:Europe/Madrid
DESCRIPTION:Nou Laboratori de Lectura, a la Biblioteca El Safareig, per al dimarts 30 d'abril a les 6 de la tarda.

URI:https://www.capellades.cat/actualitat/agenda/laboratori-de-lectura-contes-tradicionals-a-traves-dels-sentits.html
CLASS:PUBLIC
END:VEVENT
END:VCALENDAR
