BEGIN:VCALENDAR
VERSION:2.0
CALSCALE:GREGORIAN
PRODID:-//Diputació de Barcelona//DibaCMS//EN
BEGIN:VEVENT
UID:4251
DTSTAMP:20260422T162701
DTSTART:20190428T180000
DTEND:20190428T200000
SUMMARY:Comença el Festival d'Orgue
LOCATION:
METHOD:PUBLISH
X-WR-CALNAME:capellades@capellades.cat
X-WR-TIMEZONE:Europe/Madrid
DESCRIPTION:Mar Vaqué, titular de l'Emmaurskirche de Riedenberg a Stuttgart, serà la primera solista en obrir el Festival d'Orgue de Capellades, 2019.

URI:https://www.capellades.cat/actualitat/agenda/comenca-el-festival-dorgue.html
CLASS:PUBLIC
END:VEVENT
END:VCALENDAR
