BEGIN:VCALENDAR
VERSION:2.0
CALSCALE:GREGORIAN
PRODID:-//Diputació de Barcelona//DibaCMS//EN
BEGIN:VEVENT
UID:4250
DTSTAMP:20260422T161646
DTSTART:20190428T100000
DTEND:20190428T200000
SUMMARY:Jornada Electoral 28-A
LOCATION:
METHOD:PUBLISH
X-WR-CALNAME:capellades@capellades.cat
X-WR-TIMEZONE:Europe/Madrid
DESCRIPTION:Eleccions generals aquest diumenge 28 d'abril.

URI:https://www.capellades.cat/actualitat/agenda/jornada-electoral-28-a.html
CLASS:PUBLIC
END:VEVENT
END:VCALENDAR
