BEGIN:VCALENDAR
VERSION:2.0
CALSCALE:GREGORIAN
PRODID:-//Diputació de Barcelona//DibaCMS//EN
BEGIN:VEVENT
UID:4249
DTSTAMP:20260422T131037
DTSTART:20190427T210000
DTEND:20190427T230000
SUMMARY:Celebració de la Mare de Deu de Montserrat
LOCATION:
METHOD:PUBLISH
X-WR-CALNAME:capellades@capellades.cat
X-WR-TIMEZONE:Europe/Madrid
DESCRIPTION:Els veïns i veïnes del carrer Fondo celebren novament la seva festa.

URI:https://www.capellades.cat/actualitat/agenda/celebracio-de-la-mare-de-deu-de-montserrat.html
CLASS:PUBLIC
END:VEVENT
END:VCALENDAR
