BEGIN:VCALENDAR
VERSION:2.0
CALSCALE:GREGORIAN
PRODID:-//Diputació de Barcelona//DibaCMS//EN
BEGIN:VEVENT
UID:4247
DTSTAMP:20260420T081956
DTSTART:20190427T190000
DTEND:20190427T200000
SUMMARY:Concert de Primavera a Paper de Música
LOCATION:
METHOD:PUBLISH
X-WR-CALNAME:capellades@capellades.cat
X-WR-TIMEZONE:Europe/Madrid
DESCRIPTION:El Duo de Lis serà el protagonista del Concert de Primavera a Paper de Música.

URI:https://www.capellades.cat/actualitat/agenda/4247-concert-de-primavera-a-paper-de-musica.html
CLASS:PUBLIC
END:VEVENT
END:VCALENDAR
