BEGIN:VCALENDAR
VERSION:2.0
CALSCALE:GREGORIAN
PRODID:-//Diputació de Barcelona//DibaCMS//EN
BEGIN:VEVENT
UID:4246
DTSTAMP:20260422T115633
DTSTART:20190427T180000
DTEND:20190427T200000
SUMMARY:Petit Príncep a Caldes de Montbui
LOCATION:
METHOD:PUBLISH
X-WR-CALNAME:capellades@capellades.cat
X-WR-TIMEZONE:Europe/Madrid
DESCRIPTION:Nova representació de l'obra "El Petit Príncep" del Grup Teatral de Capellades.

URI:https://www.capellades.cat/actualitat/agenda/petit-princep-a-caldes-de-montbui.html
CLASS:PUBLIC
END:VEVENT
END:VCALENDAR
