BEGIN:VCALENDAR
VERSION:2.0
CALSCALE:GREGORIAN
PRODID:-//Diputació de Barcelona//DibaCMS//EN
BEGIN:VEVENT
UID:4245
DTSTAMP:20260420T093211
DTSTART:20190427T120000
DTEND:20190427T130000
SUMMARY:Inauguració exposició Carmen Martínez
LOCATION:
METHOD:PUBLISH
X-WR-CALNAME:capellades@capellades.cat
X-WR-TIMEZONE:Europe/Madrid
DESCRIPTION:El dissabte 27 d'abrila les 12 del migdia s'inaugurarà l'exposició de pintures de Carme Martínez al Saló Rosa.

URI:https://www.capellades.cat/actualitat/agenda/inauguracio-exposicio-carmen-martinez.html
CLASS:PUBLIC
END:VEVENT
END:VCALENDAR
