BEGIN:VCALENDAR
VERSION:2.0
CALSCALE:GREGORIAN
PRODID:-//Diputació de Barcelona//DibaCMS//EN
BEGIN:VEVENT
UID:4244
DTSTAMP:20260422T132702
DTSTART:20190426T193000
DTEND:20190426T210000
SUMMARY:La Lliga de Jocs
LOCATION:
METHOD:PUBLISH
X-WR-CALNAME:capellades@capellades.cat
X-WR-TIMEZONE:Europe/Madrid
DESCRIPTION:Aquest darrer divendres de mes es farà com és habitual la Lliga de Jocs.

URI:https://www.capellades.cat/actualitat/agenda/la-lliga-de-jocs.html
CLASS:PUBLIC
END:VEVENT
END:VCALENDAR
