BEGIN:VCALENDAR
VERSION:2.0
CALSCALE:GREGORIAN
PRODID:-//Diputació de Barcelona//DibaCMS//EN
BEGIN:VEVENT
UID:4243
DTSTAMP:20260420T101044
DTSTART:20190426T180000
DTEND:20190426T190000
SUMMARY:Hora del Conte amb Sílvia Aparicio
LOCATION:
METHOD:PUBLISH
X-WR-CALNAME:capellades@capellades.cat
X-WR-TIMEZONE:Europe/Madrid
DESCRIPTION:Nova Hora del Conte per aquest divendres 26 d'abril, a les 6 de la tarda.

URI:https://www.capellades.cat/actualitat/agenda/hora-del-conte-amb-silvia-aparicio.html
CLASS:PUBLIC
END:VEVENT
END:VCALENDAR
