BEGIN:VCALENDAR
VERSION:2.0
CALSCALE:GREGORIAN
PRODID:-//Diputació de Barcelona//DibaCMS//EN
BEGIN:VEVENT
UID:4242
DTSTAMP:20260420T082230
DTSTART:20190425T190000
DTEND:20190425T200000
SUMMARY:Contes per a adults a la Biblioteca El Safareig
LOCATION:
METHOD:PUBLISH
X-WR-CALNAME:capellades@capellades.cat
X-WR-TIMEZONE:Europe/Madrid
DESCRIPTION:La Companyia Professors Substituïbles presenta "Contes Portàtils".

URI:https://www.capellades.cat/actualitat/agenda/contes-per-a-adults-a-la-biblioteca-el-safareig.html
CLASS:PUBLIC
END:VEVENT
END:VCALENDAR
