BEGIN:VCALENDAR
VERSION:2.0
CALSCALE:GREGORIAN
PRODID:-//Diputació de Barcelona//DibaCMS//EN
BEGIN:VEVENT
UID:4241
DTSTAMP:20260422T144349
DTSTART:20190425T110000
DTEND:20190425T120000
SUMMARY:Un any més del Mou-te
LOCATION:
METHOD:PUBLISH
X-WR-CALNAME:capellades@capellades.cat
X-WR-TIMEZONE:Europe/Madrid
DESCRIPTION:Un any més, trobada organitzada des del CAP Capellades.

URI:https://www.capellades.cat/actualitat/agenda/un-any-mes-del-mou-te.html
CLASS:PUBLIC
END:VEVENT
END:VCALENDAR
