BEGIN:VCALENDAR
VERSION:2.0
CALSCALE:GREGORIAN
PRODID:-//Diputació de Barcelona//DibaCMS//EN
BEGIN:VEVENT
UID:4227
DTSTAMP:20260422T132451
DTSTART:20190425T090000
DTEND:20190425T110000
SUMMARY:Caminada mensual del CAP Capellades
LOCATION:
METHOD:PUBLISH
X-WR-CALNAME:capellades@capellades.cat
X-WR-TIMEZONE:Europe/Madrid
DESCRIPTION:Mou-te amb el CAP Capellades.

URI:https://www.capellades.cat/actualitat/agenda/caminada-mensual-del-cap-capellades.html
CLASS:PUBLIC
END:VEVENT
END:VCALENDAR
