BEGIN:VCALENDAR
VERSION:2.0
CALSCALE:GREGORIAN
PRODID:-//Diputació de Barcelona//DibaCMS//EN
BEGIN:VEVENT
UID:4226
DTSTAMP:20260422T193338
DTSTART:20190424T170000
DTEND:20190424T180000
SUMMARY:Taller de cuina italiana
LOCATION:
METHOD:PUBLISH
X-WR-CALNAME:capellades@capellades.cat
X-WR-TIMEZONE:Europe/Madrid
DESCRIPTION:La Societat La Lliga organitza un Taller de cuina italiana sense gluten, per al dimecres 24 d’abril, a les 5 de la tarda, al Saló Rosa i cuina de la Lliga. Preu: 10€ socis / 15€ no socis. Places limitades.

URI:https://www.capellades.cat/actualitat/agenda/taller-de-cuina-italiana.html
CLASS:PUBLIC
END:VEVENT
END:VCALENDAR
