BEGIN:VCALENDAR
VERSION:2.0
CALSCALE:GREGORIAN
PRODID:-//Diputació de Barcelona//DibaCMS//EN
BEGIN:VEVENT
UID:4225
DTSTAMP:20260422T161012
DTSTART:20190424T110000
DTEND:20190424T120000
SUMMARY:Conte de Sant Jordi
LOCATION:
METHOD:PUBLISH
X-WR-CALNAME:capellades@capellades.cat
X-WR-TIMEZONE:Europe/Madrid
DESCRIPTION:Els alumnes de 1r. a 4r. de les escoles de Capellades podran gaudir d'un conte de Sant Jordi.

URI:https://www.capellades.cat/actualitat/agenda/conte-de-sant-jordi.html
CLASS:PUBLIC
END:VEVENT
END:VCALENDAR
