BEGIN:VCALENDAR
VERSION:2.0
CALSCALE:GREGORIAN
PRODID:-//Diputació de Barcelona//DibaCMS//EN
BEGIN:VEVENT
UID:4224
DTSTAMP:20260422T161108
DTSTART:20190424T090000
DTEND:20190424T120000
SUMMARY:Matinal de contes
LOCATION:
METHOD:PUBLISH
X-WR-CALNAME:capellades@capellades.cat
X-WR-TIMEZONE:Europe/Madrid
DESCRIPTION:La celebració de Sant Jordi continua el dimecres 24 d'abril al matí amb una matinal de contes.

URI:https://www.capellades.cat/actualitat/agenda/matinal-de-contes.html
CLASS:PUBLIC
END:VEVENT
END:VCALENDAR
