BEGIN:VCALENDAR
VERSION:2.0
CALSCALE:GREGORIAN
PRODID:-//Diputació de Barcelona//DibaCMS//EN
BEGIN:VEVENT
UID:4223
DTSTAMP:20260422T162255
DTSTART:20190423T170000
DTEND:20190423T200000
SUMMARY:Diada de Sant Jordi
LOCATION:
METHOD:PUBLISH
X-WR-CALNAME:capellades@capellades.cat
X-WR-TIMEZONE:Europe/Madrid
DESCRIPTION:Tot és a punt per celebrar aquest Sant Jordi a Capellades. 

URI:https://www.capellades.cat/actualitat/agenda/diada-de-sant-jordi.html
CLASS:PUBLIC
END:VEVENT
END:VCALENDAR
