BEGIN:VCALENDAR
VERSION:2.0
CALSCALE:GREGORIAN
PRODID:-//Diputació de Barcelona//DibaCMS//EN
BEGIN:VEVENT
UID:4222
DTSTAMP:20260422T151545
DTSTART:20190421T100000
DTEND:20190421T130000
SUMMARY:Caramelles amb la Coral Xeremell
LOCATION:
METHOD:PUBLISH
X-WR-CALNAME:capellades@capellades.cat
X-WR-TIMEZONE:Europe/Madrid
DESCRIPTION:El diumenge de Pasqua els nens i nenes a partir de P3 poden animar-se a cantar les Caramelles.

URI:https://www.capellades.cat/actualitat/agenda/4222-caramelles-amb-la-coral-xeremell.html
CLASS:PUBLIC
END:VEVENT
END:VCALENDAR
