BEGIN:VCALENDAR
VERSION:2.0
CALSCALE:GREGORIAN
PRODID:-//Diputació de Barcelona//DibaCMS//EN
BEGIN:VEVENT
UID:4221
DTSTAMP:20260422T172755
DTSTART:20190421T111500
DTEND:20190421T120000
SUMMARY:Diumenge de Pasqua
LOCATION:
METHOD:PUBLISH
X-WR-CALNAME:capellades@capellades.cat
X-WR-TIMEZONE:Europe/Madrid
DESCRIPTION:El diumenge de Pasqua comença a l'església de Santa Maria amb una missa a un quart de 12 del migdia.

URI:https://www.capellades.cat/actualitat/agenda/4221-diumenge-de-pasqua.html
CLASS:PUBLIC
END:VEVENT
END:VCALENDAR
