BEGIN:VCALENDAR
VERSION:2.0
CALSCALE:GREGORIAN
PRODID:-//Diputació de Barcelona//DibaCMS//EN
BEGIN:VEVENT
UID:4220
DTSTAMP:20260422T121328
DTSTART:20190420T230000
DTEND:20190420T235900
SUMMARY:Vetlla Pasqual a l'església de Santa Maria
LOCATION:
METHOD:PUBLISH
X-WR-CALNAME:capellades@capellades.cat
X-WR-TIMEZONE:Europe/Madrid
DESCRIPTION:La celebració de la Setmana Santa continuarà el dissabte 20 d'abril.

URI:https://www.capellades.cat/actualitat/agenda/vetlla-pasqual-a-lesglesia-de-santa-maria.html
CLASS:PUBLIC
END:VEVENT
END:VCALENDAR
