BEGIN:VCALENDAR
VERSION:2.0
CALSCALE:GREGORIAN
PRODID:-//Diputació de Barcelona//DibaCMS//EN
BEGIN:VEVENT
UID:4219
DTSTAMP:20260422T161241
DTSTART:20190419T200000
DTEND:20190419T220000
SUMMARY:Actes Divendres Sant
LOCATION:
METHOD:PUBLISH
X-WR-CALNAME:capellades@capellades.cat
X-WR-TIMEZONE:Europe/Madrid
DESCRIPTION:La celebració del Divendres Sant a l'església de Santa Maria comença amb la Celebració de la Resurrecció del Senyor, a les 8 del vespre.

URI:https://www.capellades.cat/actualitat/agenda/actes-divendres-sant.html
CLASS:PUBLIC
END:VEVENT
END:VCALENDAR
