BEGIN:VCALENDAR
VERSION:2.0
CALSCALE:GREGORIAN
PRODID:-//Diputació de Barcelona//DibaCMS//EN
BEGIN:VEVENT
UID:4217
DTSTAMP:20260422T161700
DTSTART:20190417T170000
DTEND:20190417T210000
SUMMARY:Nou acapte de sang
LOCATION:
METHOD:PUBLISH
X-WR-CALNAME:capellades@capellades.cat
X-WR-TIMEZONE:Europe/Madrid
DESCRIPTION:Vols donar sang?

URI:https://www.capellades.cat/actualitat/agenda/4217-nou-acapte-de-sang.html
CLASS:PUBLIC
END:VEVENT
END:VCALENDAR
