BEGIN:VCALENDAR
VERSION:2.0
CALSCALE:GREGORIAN
PRODID:-//Diputació de Barcelona//DibaCMS//EN
BEGIN:VEVENT
UID:4216
DTSTAMP:20260422T161251
DTSTART:20190415T180000
DTEND:20190416T180000
SUMMARY:Club de Lectura Petits Lectors
LOCATION:
METHOD:PUBLISH
X-WR-CALNAME:capellades@capellades.cat
X-WR-TIMEZONE:Europe/Madrid
DESCRIPTION:Aquest mes d'abril la biblioteca El Safareig proposa dues sessions per al Club de Lectura Petits Lectors.

URI:https://www.capellades.cat/actualitat/agenda/club-de-lectura-petits-lectors.html
CLASS:PUBLIC
END:VEVENT
END:VCALENDAR
