BEGIN:VCALENDAR
VERSION:2.0
CALSCALE:GREGORIAN
PRODID:-//Diputació de Barcelona//DibaCMS//EN
BEGIN:VEVENT
UID:4215
DTSTAMP:20260422T145122
DTSTART:20190414T110000
DTEND:20190414T113000
SUMMARY:Benedicció de Rams
LOCATION:
METHOD:PUBLISH
X-WR-CALNAME:capellades@capellades.cat
X-WR-TIMEZONE:Europe/Madrid
DESCRIPTION:Aquest diumenge 14 d'abril es farà la benedicció de rams, a les 11, davant la porta de l'església de Santa Maria.

URI:https://www.capellades.cat/actualitat/agenda/benediccio-de-rams.html
CLASS:PUBLIC
END:VEVENT
END:VCALENDAR
