BEGIN:VCALENDAR
VERSION:2.0
CALSCALE:GREGORIAN
PRODID:-//Diputació de Barcelona//DibaCMS//EN
BEGIN:VEVENT
UID:4213
DTSTAMP:20260422T145047
DTSTART:20190414T130000
DTEND:20190414T140000
SUMMARY:Presentació de la llista de VdC-CUP
LOCATION:
METHOD:PUBLISH
X-WR-CALNAME:capellades@capellades.cat
X-WR-TIMEZONE:Europe/Madrid
DESCRIPTION:El diumenge 14 d'abril a la una del migdia Vila de Capellades-CUP presentarà la seva llista electoral al Pati de La Lliga.

URI:https://www.capellades.cat/actualitat/agenda/presentacio-de-la-llista-de-vdc-cup.html
CLASS:PUBLIC
END:VEVENT
END:VCALENDAR
